BEGIN:VCALENDAR
VERSION:2.0
PRODID:-//Western Australia Landcare Network - ECPv4.6.11//NONSGML v1.0//EN
CALSCALE:GREGORIAN
METHOD:PUBLISH
X-WR-CALNAME:Western Australia Landcare Network
X-ORIGINAL-URL:http://landcarewa.org.au
X-WR-CALDESC:Events for Western Australia Landcare Network
BEGIN:VEVENT
DTSTART;VALUE=DATE:20180313
DTEND;VALUE=DATE:20180317
DTSTAMP:20180224T230246
CREATED:20180219T051304Z
LAST-MODIFIED:20180219T051304Z
UID:7210-1520899200-1521244799@landcarewa.org.au
SUMMARY:Talkin' Soil Health Conferences - Dalwallinu and Katanning
DESCRIPTION:Learn from and collaborate with world-changing thinkers and innovators in soil health \nNatural Resource Management groups across regional Western Australia are joining forces to bring you a choice of two Talkin’ Soil Health conferences in 2018\, Dalwallinu and Katanning. Come along to share soil knowledge\, discover innovations in soil\, and learn about new soil technologies. \nThe events will provide opportunities for farmers and anyone interested in ‘unearthing profits’ to hear the latest research findings and understand how they can use that information to improve soil management for their own farms\, their industry and more broadly\, for agricultural land across the state. Improved soil health for both productivity and environmental stewardship. \nTalkin’ Soil Health promises to deliver inspiring and educational forums to help farmers unlock the secrets of their soils and increase their productivity. To do this\, we are asking organisations that are part of the solution to work with us to bring the program to life. \nRegister Now \n
URL:http://landcarewa.org.au/event/talkin-soil-health-conferences-dalwallinu-and-katanning/
END:VEVENT
BEGIN:VEVENT
DTSTART;VALUE=DATE:20180521
DTEND;VALUE=DATE:20180528
DTSTAMP:20180224T230246
CREATED:20180223T081349Z
LAST-MODIFIED:20180223T081349Z
UID:7261-1526860800-1527465599@landcarewa.org.au
SUMMARY:National Volunteer Week
DESCRIPTION:National Volunteer Week (NVW) is an annual celebration to acknowledge the generous contribution of our nation’s volunteers. The theme for 2018 is: Give a little. Change a lot. This theme represents the millions of volunteers who make a significant impact in their communities and on society\, by giving a little of their time. National Volunteer Week in 2018 will be held from 21-27 May 2018\, so it no longer clashes with the Federal Budget. \nGALA AWARDS DINNER\nTaking place on Thursday 24 May 2018\, this prestigious event honours the best of the best with awards for volunteering in eight categories. Guests enjoy a three course dinner\, premium wines and wonderful live entertainment. \nNATIONAL VOLUNTEER WEEK GRANTS\nThanks to Lotterywest support we are delighted to announce that we will be offering small grants for National Volunteer Week celebrations. More information will be provided regarding this in early February. \nMERCHANDISE AND RESOURCES\nVolunteering Australia’s NVW webpage has everything you need to celebrate volunteering including merchandise available for preorder and downloadable resources all aimed at acknowledging the hard work of volunteers and to encourage others to volunteer. \n
URL:http://landcarewa.org.au/event/national-volunteer-week/
END:VEVENT
END:VCALENDAR